View In:
ArcGIS JavaScript
ArcGIS Online Map Viewer
ArcGIS Earth
ArcMap
ArcGIS Pro
View Footprint In:
ArcGIS Online Map Viewer
Service Description:
Map Name: Map
Legend
All Layers and Tables
Layers:
Description:
Service Item Id: fc926907fd81417ea15d84eb8c9748a3
Copyright Text:
Spatial Reference:
2600
(3346)
LatestVCSWkid(0)
Single Fused Map Cache: true
Tile Info:
- Height: 256
- Width: 256
- DPI: 96
-
Levels of Detail: 24
-
Level ID: 0
[ Start Tile, End Tile ]
- Resolution: 78124.7213756421
- Scale: 2.952745374827418E8
-
Level ID: 1
[ Start Tile, End Tile ]
- Resolution: 39062.36068782105
- Scale: 1.476372687413709E8
-
Level ID: 2
[ Start Tile, End Tile ]
- Resolution: 19531.180343910524
- Scale: 7.381863437068544E7
-
Level ID: 3
[ Start Tile, End Tile ]
- Resolution: 9765.590171955262
- Scale: 3.690931718534272E7
-
Level ID: 4
[ Start Tile, End Tile ]
- Resolution: 4882.795085977631
- Scale: 1.845465859267136E7
-
Level ID: 5
[ Start Tile, End Tile ]
- Resolution: 2441.3975429888155
- Scale: 9227329.29633568
-
Level ID: 6
[ Start Tile, End Tile ]
- Resolution: 1220.6987714944078
- Scale: 4613664.64816784
-
Level ID: 7
[ Start Tile, End Tile ]
- Resolution: 610.3493857472039
- Scale: 2306832.32408392
-
Level ID: 8
[ Start Tile, End Tile ]
- Resolution: 305.17469287360194
- Scale: 1153416.16204196
-
Level ID: 9
[ Start Tile, End Tile ]
- Resolution: 152.58734643680097
- Scale: 576708.08102098
-
Level ID: 10
[ Start Tile, End Tile ]
- Resolution: 76.29367321840049
- Scale: 288354.04051049
-
Level ID: 11
[ Start Tile, End Tile ]
- Resolution: 38.14683660920024
- Scale: 144177.020255245
-
Level ID: 12
[ Start Tile, End Tile ]
- Resolution: 19.07341830460012
- Scale: 72088.5101276225
-
Level ID: 13
[ Start Tile, End Tile ]
- Resolution: 9.53670915230006
- Scale: 36044.25506381125
-
Level ID: 14
[ Start Tile, End Tile ]
- Resolution: 4.76835457615003
- Scale: 18022.127531905626
-
Level ID: 15
[ Start Tile, End Tile ]
- Resolution: 2.384177288075015
- Scale: 9011.063765952813
-
Level ID: 16
[ Start Tile, End Tile ]
- Resolution: 1.1920886440375076
- Scale: 4505.531882976406
-
Level ID: 17
[ Start Tile, End Tile ]
- Resolution: 0.5960443220187538
- Scale: 2252.765941488203
-
Level ID: 18
[ Start Tile, End Tile ]
- Resolution: 0.2980221610093769
- Scale: 1126.3829707441016
-
Level ID: 19
[ Start Tile, End Tile ]
- Resolution: 0.14901108050468845
- Scale: 563.1914853720508
-
Level ID: 20
[ Start Tile, End Tile ]
- Resolution: 0.07450554025234422
- Scale: 281.5957426860254
-
Level ID: 21
[ Start Tile, End Tile ]
- Resolution: 0.03725277012617211
- Scale: 140.7978713430127
-
Level ID: 22
[ Start Tile, End Tile ]
- Resolution: 0.018626385063086056
- Scale: 70.39893567150635
-
Level ID: 23
[ Start Tile, End Tile ]
- Resolution: 0.009313192531543028
- Scale: 35.199467835753175
- Format: Mixed
- Compression Quality: 75.0
- Origin: X: -9499964.336082188
Y: 9999964.336082188
- Spatial Reference: 2600
(3346)
LatestVCSWkid(0)
Storage Info:
- Storage Format: esriMapCacheStorageModeCompactV2
- Packet Size: 128
Initial Extent:
XMin: 220576.97176276013
YMin: 5956102.767951742
XMax: 680738.0559738881
YMax: 6290989.229237165
Spatial Reference: 2600
(3346)
LatestVCSWkid(0)
Full Extent:
XMin: 298821.84554607765
YMin: 5970376.449737739
XMax: 689187.0964991511
YMax: 6260011.375461533
Spatial Reference: 2600
(3346)
LatestVCSWkid(0)
Units: esriMeters
Supported Image Format Types: PNG32,PNG24,PNG,JPG,DIB,TIFF,EMF,PS,PDF,GIF,SVG,SVGZ,BMP
Document Info:
Title: Map
Author:
Comments:
Subject:
Category:
Keywords:
AntialiasingMode: None
TextAntialiasingMode: Force
Supports Dynamic Layers: false
MaxRecordCount: 1000
MaxImageHeight: 4096
MaxImageWidth: 4096
Supported Query Formats: JSON, geoJSON, PBF
Supports Query Data Elements: true
Min Scale: 18454658
Max Scale: 36044
Min LOD: 4
Max LOD: 13
Supports Datum Transformation: true
Child Resources:
Info
Supported Operations:
QueryLegends
Return Updates